BEGIN:VCALENDAR
VERSION:2.0
PRODID:-//Tabitha Home - ECPv6.15.11//NONSGML v1.0//EN
CALSCALE:GREGORIAN
METHOD:PUBLISH
X-WR-CALNAME:Tabitha Home
X-ORIGINAL-URL:https://www.tabithahome.org
X-WR-CALDESC:Events for Tabitha Home
REFRESH-INTERVAL;VALUE=DURATION:PT1H
X-Robots-Tag:noindex
X-PUBLISHED-TTL:PT1H
BEGIN:VTIMEZONE
TZID:Africa/Lagos
BEGIN:STANDARD
TZOFFSETFROM:+0100
TZOFFSETTO:+0100
TZNAME:WAT
DTSTART:20240101T000000
END:STANDARD
END:VTIMEZONE
BEGIN:VEVENT
DTSTART;VALUE=DATE:20251220
DTEND;VALUE=DATE:20251228
DTSTAMP:20260420T094301
CREATED:20250906T112428Z
LAST-MODIFIED:20250911T013251Z
UID:100376-1766188800-1766879999@www.tabithahome.org
SUMMARY:Tabitha Home End of the Year Project
DESCRIPTION:As another year draws to a close\, it’s time to reflect\, celebrate\, and give thanks. The End of the Year Project is a cherished tradition at Tabitha Home — a time when our children showcase their growth\, talents\, and resilience while the community comes together in joy and gratitude. \nEvent Details:📅 Date: 20th December 2025📍 Venue: Tabitha Home Grounds\, Ibadan🎉 Highlights: \n\n\nTalent showcases and storytelling by the children \n\n\nFun activities\, games\, and performances \n\n\nA season of giving — gifts\, encouragement\, and shared joy \n\n\nThis event is more than a celebration — it is a moment of hope. As the children step into a new year\, your support helps them do so with confidence\, joy\, and faith for brighter days ahead. \nBe part of making the celebrations brighter and the children’s future stronger. Give\, attend\, or sponsor a child’s gift today. \nGive to the End of Year Project
URL:https://www.tabithahome.org/event/tabitha-home-end-of-the-year-project/
LOCATION:Tabitha House\, No 97\, Adebiyi Street Joyce B Road\, Ring Road\, Ibadan\, Oyo\, 200005\, Nigeria
ATTACH;FMTTYPE=image/jpeg:https://www.tabithahome.org/wp-content/uploads/2025/09/2.jpg
ORGANIZER;CN="Tabitha Home":MAILTO:info@tabithahome.org
END:VEVENT
BEGIN:VEVENT
DTSTART;VALUE=DATE:20251207
DTEND;VALUE=DATE:20251208
DTSTAMP:20260420T094301
CREATED:20251124T055336Z
LAST-MODIFIED:20251125T171951Z
UID:100350-1765065600-1765151999@www.tabithahome.org
SUMMARY:Tabitha Home Creative Arts Festival
DESCRIPTION:Creativity is more than art it is healing\, expression\, and hope. This December\, Tabitha Home is excited to host the Creative Arts Festival\, a vibrant celebration of the talent and resilience of our children. \nEvent Details:📅 Date: 07 December 2025📍 Venue: Tunde Odunlade Art Gallery\, Bodija\, Ibadan🎨 Featuring: \n\n\nAn exhibition of handmade crafts (bags\, accessories\, art pieces) \n\n\nArtistic performances  drama\, music\, and dance \n\n\nStories told through the eyes of the children \n\n\nThis festival is not just about showcasing art; it’s about giving our children a platform to express themselves\, discover confidence\, and inspire others. Every purchase and every clap of applause translates into encouragement\, empowerment\, and hope. \nJoin us in transforming creativity into opportunity. By attending\, donating\, or sponsoring\, you empower children to dream bigger and brighter.
URL:https://www.tabithahome.org/event/tabitha-home-creative-arts-festival/
LOCATION:No 2\, Ladoke Akintola Avenue\, Bodija\, Ibadan\, Nigeria\, Nigeria
ATTACH;FMTTYPE=image/jpeg:https://www.tabithahome.org/wp-content/uploads/2025/09/Tabitha-Home-Creative-Arts-Festival-.jpg
ORGANIZER;CN="Tabitha Home":MAILTO:info@tabithahome.org
END:VEVENT
BEGIN:VEVENT
DTSTART;TZID=Africa/Lagos:20251205T190000
DTEND;TZID=Africa/Lagos:20251205T203000
DTSTAMP:20260420T094301
CREATED:20251127T202212Z
LAST-MODIFIED:20251127T202212Z
UID:101203-1764961200-1764966600@www.tabithahome.org
SUMMARY:Tabitha Home Craft Exhibition at Behn Gallery
DESCRIPTION:Join us on Friday\, December 5\, 2025\, from 7:00 PM to 8:30 PM at Behn Gallery\, 2149 Glebe St\, Suite 100\, Carmel\, IN\, USA\, for the Tabitha Home Craft Exhibition a special showcase of handmade creations by our children. Featured items include: \n\n\nNotepads \n\n\nBackpacks \n\n\nTraditional Shirts \n\n\nKeyholders \n\n\nArtworks \n\n\nBags \n\n\nAll funds raised will directly support the children of Tabitha Home.For enquiries\, please contact +1 (945) 306-9058.
URL:https://www.tabithahome.org/event/tabitha-home-craft-exhibition-at-behn-gallery/
LOCATION:Behn Gallery\, 2149 Glebe St\, Suite 100\, Carmel\, IN\, USA\, Behn Gallery\, 2149 Glebe St\, Suite 100\, Carmel\, IN\, USA\, Indiana\, IN\, United States
ATTACH;FMTTYPE=image/png:https://www.tabithahome.org/wp-content/uploads/2025/11/Tabitha-Home-Behn-gallery-final.png
END:VEVENT
BEGIN:VEVENT
DTSTART;VALUE=DATE:20251101
DTEND;VALUE=DATE:20251102
DTSTAMP:20260420T094301
CREATED:20250906T102725Z
LAST-MODIFIED:20250911T012910Z
UID:100365-1761955200-1762041599@www.tabithahome.org
SUMMARY:Postpartum Depression (PPD) Support Project
DESCRIPTION:Motherhood should be a time of joy\, but for many women\, it becomes a silent struggle. Postpartum Depression (PPD) affects countless mothers\, yet stigma and lack of awareness often keep them from seeking help. This November\, Tabitha Home is launching the PPD Support Project to bring healing\, hope\, and understanding. \nEvent Details:📅 Date: November 2025📍 Venue: Tabitha Home & Partner Clinics💡 What We Provide: \n\n\nAwareness campaigns and community education \n\n\nCounseling sessions and therapy \n\n\nMedical referrals for mothers in need \n\n\nPeer support groups and safe spaces \n\n\nThrough this project\, we aim to break the silence around PPD\, restore mental wellness\, and help mothers bond with their babies. \nYou can stand with us in supporting mothers. Partner\, donate\, or volunteer to help women overcome postpartum depression and embrace motherhood with joy. \nSupport the PPD Project \nVolunteer
URL:https://www.tabithahome.org/event/postpartum-depression-ppd-support-project/
LOCATION:Tabitha House\, No 97\, Adebiyi Street Joyce B Road\, Ring Road\, Ibadan\, Oyo\, 200005\, Nigeria
ATTACH;FMTTYPE=image/jpeg:https://www.tabithahome.org/wp-content/uploads/2025/09/images.jpeg
ORGANIZER;CN="Tabitha Home":MAILTO:info@tabithahome.org
END:VEVENT
BEGIN:VEVENT
DTSTART;TZID=Africa/Lagos:20250913T111638
DTEND;TZID=Africa/Lagos:20250913T111638
DTSTAMP:20260420T094301
CREATED:20250911T013717Z
LAST-MODIFIED:20250913T111637Z
UID:100526-1757762198-1757762198@www.tabithahome.org
SUMMARY:Monthly Birthday Celebration
DESCRIPTION:At Tabitha Home\, every child deserves to feel special. That’s why we hold a Monthly Birthday Celebration — a joyful tradition where children whose birthdays fall in the month are honored with love\, laughter\, and gifts. \nEvent Details:📅 Date: Every Month📍 Venue: Tabitha Home Grounds🎂 Celebration Includes: \n\n\nCakes\, music\, and dancing \n\n\nPersonalized gifts for each child \n\n\nPrayers\, laughter\, and joyful memories \n\n\nFor children who may never have known the joy of a birthday party\, these celebrations remind them they are seen\, valued\, and loved. \nYou can help us turn an ordinary day into an extraordinary memory for a child. Sponsor a cake\, a gift\, or simply join the celebration. \nDonate to Birthday celebrations
URL:https://www.tabithahome.org/event/monthly-birthday-celebration/
LOCATION:IN
ATTACH;FMTTYPE=image/jpeg:https://www.tabithahome.org/wp-content/uploads/2025/09/Birthday-Pix.jpg
END:VEVENT
BEGIN:VEVENT
DTSTART;TZID=Africa/Lagos:20250913T104511
DTEND;TZID=Africa/Lagos:20250913T104511
DTSTAMP:20260420T094301
CREATED:20250906T105053Z
LAST-MODIFIED:20250913T104511Z
UID:100372-1757760311-1757760311@www.tabithahome.org
SUMMARY:Back to School Project
DESCRIPTION:For many children\, “back to school” means excitement. But for vulnerable children\, it often means worry — uniforms they don’t have\, books they can’t afford\, and tuition fees beyond reach. At Tabitha Home\, the Back to School Project ensures every child walks into school equipped and confident. \nEvent Details:📅 Date: Ongoing (All donations directly fund school resources)🎯 Goal: Provide tuition\, uniforms\, textbooks\, writing materials\, and digital learning resources for children under our care. \nThis project is more than giving supplies — it’s giving children the freedom to learn without fear and the dignity of walking into class prepared like their peers. \nYour contribution is an investment in their future. Together\, let’s keep children in school\, learning\, and dreaming. \nDonate to the Back to School Project
URL:https://www.tabithahome.org/event/back-to-school-project/
LOCATION:Tabitha House\, No 97\, Adebiyi Street Joyce B Road\, Ring Road\, Ibadan\, Oyo\, 200005\, Nigeria
ATTACH;FMTTYPE=image/jpeg:https://www.tabithahome.org/wp-content/uploads/2025/09/Tabitha-Home-back-to-school-274x300-1.jpg
ORGANIZER;CN="Tabitha Home":MAILTO:info@tabithahome.org
END:VEVENT
END:VCALENDAR